BEGIN:VCALENDAR
VERSION:2.0
PRODID:-//Morcegos-Patinatour - ECPv5.8.0//NONSGML v1.0//EN
CALSCALE:GREGORIAN
METHOD:PUBLISH
X-WR-CALNAME:Morcegos-Patinatour
X-ORIGINAL-URL:https://patinatour.es
X-WR-CALDESC:Eventos para Morcegos-Patinatour
BEGIN:VTIMEZONE
TZID:Europe/Madrid
BEGIN:DAYLIGHT
TZOFFSETFROM:+0100
TZOFFSETTO:+0200
TZNAME:CEST
DTSTART:20170326T010000
END:DAYLIGHT
BEGIN:STANDARD
TZOFFSETFROM:+0200
TZOFFSETTO:+0100
TZNAME:CET
DTSTART:20171029T010000
END:STANDARD
END:VTIMEZONE
BEGIN:VEVENT
DTSTART;TZID=Europe/Madrid:20171101T153000
DTEND;TZID=Europe/Madrid:20171101T163000
DTSTAMP:20260420T090822
CREATED:20171030T081856Z
LAST-MODIFIED:20171030T081919Z
UID:7102-1509550200-1509553800@patinatour.es
SUMMARY:Copa Diputación Ourense Hockey Linea
DESCRIPTION:Nuestro Equipo Benjamín-Infantil disputara este Miércoles la Copa Diputación en el pabellón Paco Chao de Carballiño a partir de las 16:30. Te esperamos.
URL:https://patinatour.es/evento/copa-diputacion-ourense-hockey-linea/
LOCATION:Pabellon Paco Chao\, Rua do Monte do Moucho\, Carballiño\, Ourense\, 32500\, España
CATEGORIES:EVENTO,Hockey Línea
ATTACH;FMTTYPE=image/jpeg:https://patinatour.es/wp-content/uploads/2017/10/copadeputacion2017-web.jpg
ORGANIZER;CN="MORCEGOS":MAILTO:info@morcegos.es
END:VEVENT
END:VCALENDAR