BEGIN:VCALENDAR
VERSION:2.0
PRODID:-//Morcegos-Patinatour - ECPv5.8.0//NONSGML v1.0//EN
CALSCALE:GREGORIAN
METHOD:PUBLISH
X-WR-CALNAME:Morcegos-Patinatour
X-ORIGINAL-URL:https://patinatour.es
X-WR-CALDESC:Eventos para Morcegos-Patinatour
BEGIN:VTIMEZONE
TZID:Europe/Madrid
BEGIN:DAYLIGHT
TZOFFSETFROM:+0100
TZOFFSETTO:+0200
TZNAME:CEST
DTSTART:20170326T010000
END:DAYLIGHT
BEGIN:STANDARD
TZOFFSETFROM:+0200
TZOFFSETTO:+0100
TZNAME:CET
DTSTART:20171029T010000
END:STANDARD
END:VTIMEZONE
BEGIN:VEVENT
DTSTART;TZID=Europe/Madrid:20170919T183000
DTEND;TZID=Europe/Madrid:20170919T200000
DTSTAMP:20260420T090817
CREATED:20171024T075533Z
LAST-MODIFIED:20171205T101837Z
UID:6967-1505845800-1505851200@patinatour.es
SUMMARY:Entrenamiento Categoría Infantil
DESCRIPTION:Entrenamiento Hockey Linea Infantil
URL:https://patinatour.es/evento/entrenamiento-categoria-infantil-2/
LOCATION:Pabellón de A Carballeira\, Calle del Hórreo\, 11\, Ourense\, Ourense\, 32002\, España
CATEGORIES:Hockey Línea
ORGANIZER;CN="MORCEGOS":MAILTO:info@morcegos.es
END:VEVENT
END:VCALENDAR