BEGIN:VCALENDAR
VERSION:2.0
PRODID:-//Morcegos-Patinatour - ECPv5.8.0//NONSGML v1.0//EN
CALSCALE:GREGORIAN
METHOD:PUBLISH
X-WR-CALNAME:Morcegos-Patinatour
X-ORIGINAL-URL:https://patinatour.es
X-WR-CALDESC:Eventos para Morcegos-Patinatour
BEGIN:VTIMEZONE
TZID:Europe/Madrid
BEGIN:DAYLIGHT
TZOFFSETFROM:+0100
TZOFFSETTO:+0200
TZNAME:CEST
DTSTART:20170326T010000
END:DAYLIGHT
BEGIN:STANDARD
TZOFFSETFROM:+0200
TZOFFSETTO:+0100
TZNAME:CET
DTSTART:20171029T010000
END:STANDARD
END:VTIMEZONE
BEGIN:VEVENT
DTSTART;VALUE=DATE:20171022
DTEND;VALUE=DATE:20171023
DTSTAMP:20260422T103226
CREATED:20171011T081708Z
LAST-MODIFIED:20171011T125906Z
UID:6080-1508630400-1508716799@patinatour.es
SUMMARY:Partido
DESCRIPTION:1ª Sede Hockey Linea Senior
URL:https://patinatour.es/evento/entrenamiento-categoria-senior-2/
LOCATION:PABELLON DANIEL CORDIDO\, Rúa Gallego Tato\, 1\,\, LUGO\, LUGO\, 27003\, España
CATEGORIES:Hockey Línea
ATTACH;FMTTYPE=image/jpeg:https://patinatour.es/wp-content/uploads/2017/06/08.jpg
ORGANIZER;CN="MORCEGOS":MAILTO:info@morcegos.es
END:VEVENT
END:VCALENDAR