BEGIN:VCALENDAR
VERSION:2.0
PRODID:-//Morcegos-Patinatour - ECPv5.8.0//NONSGML v1.0//EN
CALSCALE:GREGORIAN
METHOD:PUBLISH
X-WR-CALNAME:Morcegos-Patinatour
X-ORIGINAL-URL:https://patinatour.es
X-WR-CALDESC:Eventos para Morcegos-Patinatour
BEGIN:VTIMEZONE
TZID:Europe/Madrid
BEGIN:DAYLIGHT
TZOFFSETFROM:+0100
TZOFFSETTO:+0200
TZNAME:CEST
DTSTART:20170326T010000
END:DAYLIGHT
BEGIN:STANDARD
TZOFFSETFROM:+0200
TZOFFSETTO:+0100
TZNAME:CET
DTSTART:20171029T010000
END:STANDARD
END:VTIMEZONE
BEGIN:VEVENT
DTSTART;TZID=Europe/Madrid:20170919T193000
DTEND;TZID=Europe/Madrid:20170919T210000
DTSTAMP:20260420T104931
CREATED:20170627T101845Z
LAST-MODIFIED:20171024T071210Z
UID:6085-1505849400-1505854800@patinatour.es
SUMMARY:Entrenamiento Categoría Senior
DESCRIPTION:Entrenamiento Hockey Linea Senior
URL:https://patinatour.es/evento/entrenamiento-categoria-senior/
LOCATION:Pabellón de A Carballeira\, Calle del Hórreo\, 11\, Ourense\, Ourense\, 32002\, España
CATEGORIES:Hockey Línea
END:VEVENT
END:VCALENDAR