BEGIN:VCALENDAR
VERSION:2.0
PRODID:-//Morcegos-Patinatour - ECPv5.8.0//NONSGML v1.0//EN
CALSCALE:GREGORIAN
METHOD:PUBLISH
X-WR-CALNAME:Morcegos-Patinatour
X-ORIGINAL-URL:https://patinatour.es
X-WR-CALDESC:Eventos para Morcegos-Patinatour
BEGIN:VTIMEZONE
TZID:Europe/Madrid
BEGIN:DAYLIGHT
TZOFFSETFROM:+0100
TZOFFSETTO:+0200
TZNAME:CEST
DTSTART:20180325T010000
END:DAYLIGHT
BEGIN:STANDARD
TZOFFSETFROM:+0200
TZOFFSETTO:+0100
TZNAME:CET
DTSTART:20181028T010000
END:STANDARD
END:VTIMEZONE
BEGIN:VEVENT
DTSTART;VALUE=DATE:20180616
DTEND;VALUE=DATE:20180617
DTSTAMP:20260420T072212
CREATED:20170626T171534Z
LAST-MODIFIED:20171024T065935Z
UID:6041-1529107200-1529193599@patinatour.es
SUMMARY:Excursión ruta Roller
DESCRIPTION:Ruta Anual PATINATOUR
URL:https://patinatour.es/evento/iniciacion-y-perfeccionamiento-infantil-2017-06-17/
CATEGORIES:Escuela Patinaje
END:VEVENT
END:VCALENDAR