BEGIN:VCALENDAR
VERSION:2.0
PRODID:-//Morcegos-Patinatour - ECPv5.8.0//NONSGML v1.0//EN
CALSCALE:GREGORIAN
METHOD:PUBLISH
X-WR-CALNAME:Morcegos-Patinatour
X-ORIGINAL-URL:https://patinatour.es
X-WR-CALDESC:Eventos para Morcegos-Patinatour
BEGIN:VTIMEZONE
TZID:Europe/Madrid
BEGIN:DAYLIGHT
TZOFFSETFROM:+0100
TZOFFSETTO:+0200
TZNAME:CEST
DTSTART:20170326T010000
END:DAYLIGHT
BEGIN:STANDARD
TZOFFSETFROM:+0200
TZOFFSETTO:+0100
TZNAME:CET
DTSTART:20171029T010000
END:STANDARD
END:VTIMEZONE
BEGIN:VEVENT
DTSTART;TZID=Europe/Madrid:20170916T170000
DTEND;TZID=Europe/Madrid:20170916T180000
DTSTAMP:20260420T090958
CREATED:20170626T171534Z
LAST-MODIFIED:20171024T070834Z
UID:6028-1505581200-1505584800@patinatour.es
SUMMARY:Iniciación y Perfeccionamiento Infantil
DESCRIPTION:Clases de Patinaje
URL:https://patinatour.es/evento/iniciacion-y-perfeccionamiento-infantil/
LOCATION:CEIP Mestre Vide\, Paseo Mestre Vide\, 4\, Ourense\, Ourense\, 32004\, España
CATEGORIES:Escuela Patinaje
END:VEVENT
END:VCALENDAR