BEGIN:VCALENDAR
VERSION:2.0
PRODID:-//Morcegos-Patinatour - ECPv5.8.0//NONSGML v1.0//EN
CALSCALE:GREGORIAN
METHOD:PUBLISH
X-WR-CALNAME:Morcegos-Patinatour
X-ORIGINAL-URL:https://patinatour.es
X-WR-CALDESC:Eventos para Morcegos-Patinatour
BEGIN:VTIMEZONE
TZID:Europe/Madrid
BEGIN:DAYLIGHT
TZOFFSETFROM:+0100
TZOFFSETTO:+0200
TZNAME:CEST
DTSTART:20180325T010000
END:DAYLIGHT
BEGIN:STANDARD
TZOFFSETFROM:+0200
TZOFFSETTO:+0100
TZNAME:CET
DTSTART:20181028T010000
END:STANDARD
END:VTIMEZONE
BEGIN:VEVENT
DTSTART;VALUE=DATE:20180203
DTEND;VALUE=DATE:20180205
DTSTAMP:20260420T072015
CREATED:20171024T081925Z
LAST-MODIFIED:20171024T082559Z
UID:7093-1517698800-1517785199@patinatour.es
SUMMARY:Jornada 9 Hockey Linea Senior
DESCRIPTION:Brigantium Beta – Morcegos HL
URL:https://patinatour.es/evento/jornada-9-hockey-linea-senior/
LOCATION:Pabellon Bouzas\, Rúa de Eduardo Cabello\, s/n\, Vigo\, Pontevedra\, 36208\, España
CATEGORIES:Hockey Línea
ORGANIZER;CN="MORCEGOS":MAILTO:info@morcegos.es
END:VEVENT
END:VCALENDAR